BEGIN:VCALENDAR
VERSION:2.0
PRODID:-//Climate Change - ECPv5.6.0//NONSGML v1.0//EN
CALSCALE:GREGORIAN
METHOD:PUBLISH
X-WR-CALNAME:Climate Change
X-ORIGINAL-URL:https://climatechange.gov.to
X-WR-CALDESC:Events for Climate Change
BEGIN:VTIMEZONE
TZID:UTC
BEGIN:STANDARD
TZOFFSETFROM:+0000
TZOFFSETTO:+0000
TZNAME:UTC
DTSTART:20210101T000000
END:STANDARD
END:VTIMEZONE
BEGIN:VEVENT
DTSTART;TZID=UTC:20210518T090000
DTEND;TZID=UTC:20210518T133000
DTSTAMP:20210614T110918
CREATED:20210518T223637Z
LAST-MODIFIED:20210518T223637Z
UID:4006-1621328400-1621344600@climatechange.gov.to
SUMMARY:Hydro fluorocarbon (HFC) Licensing System- A Partnership Workshop with His Majesty's Customs and Importers
DESCRIPTION:
URL:https://climatechange.gov.to/?tribe_events=hydro-fluorocarbon-hfc-licensing-system-a-partnership-workshop-with-his-majestys-customs-and-importers
LOCATION:Fe’ao mo e Ngalu Conference Room\, Ministry of Revenue and Custom\, Ma'ufanga\, Tonga
CATEGORIES:Workshop
END:VEVENT
BEGIN:VEVENT
DTSTART;TZID=UTC:20210520T093000
DTEND;TZID=UTC:20210520T160000
DTSTAMP:20210614T110918
CREATED:20210519T020930Z
LAST-MODIFIED:20210519T020930Z
UID:4010-1621503000-1621526400@climatechange.gov.to
SUMMARY:Tonga JNAP 2 Monitoring and Evaluation Training
DESCRIPTION:The objective of this workshop will focus on providing instructions for ministry planners and the JNAP 2 M&E working group on effectively completing the monitoring questionnaire as part of the process requirements for the JNAP 2 M&E System.
URL:https://climatechange.gov.to/?tribe_events=tonga-jnap-2-monitoring-and-evaluation-training
LOCATION:DCC-Conference Room\, OGSanft Level 3\, Nuku'alofa\, Tongatapu\, Tonga
CATEGORIES:Training
END:VEVENT
BEGIN:VEVENT
DTSTART;TZID=UTC:20210602T090000
DTEND;TZID=UTC:20210609T160000
DTSTAMP:20210614T110918
CREATED:20210531T041138Z
LAST-MODIFIED:20210531T041138Z
UID:4119-1622624400-1623254400@climatechange.gov.to
SUMMARY:Youth Training on Mangrove
DESCRIPTION:5 Day Youth Training on Mangrove Restoration for youths from the coastal communities in North-Western Tongatapu (Sopu-Ha’atafu)
URL:https://climatechange.gov.to/?tribe_events=youth-training-on-mangrove
LOCATION:DCC-Conference Room\, OGSanft Level 3\, Nuku'alofa\, Tongatapu\, Tonga
END:VEVENT
END:VCALENDAR