BEGIN:VCALENDAR
VERSION:2.0
PRODID:-//Climate Change - ECPv5.6.0//NONSGML v1.0//EN
CALSCALE:GREGORIAN
METHOD:PUBLISH
X-WR-CALNAME:Climate Change
X-ORIGINAL-URL:https://climatechange.gov.to
X-WR-CALDESC:Events for Climate Change
BEGIN:VTIMEZONE
TZID:UTC
BEGIN:STANDARD
TZOFFSETFROM:+0000
TZOFFSETTO:+0000
TZNAME:UTC
DTSTART:20200101T000000
END:STANDARD
END:VTIMEZONE
BEGIN:VEVENT
DTSTART;TZID=UTC:20210210T083000
DTEND;TZID=UTC:20210211T163000
DTSTAMP:20210626T235133
CREATED:20210208T202152Z
LAST-MODIFIED:20210208T202212Z
UID:1990-1612945800-1613061000@climatechange.gov.to
SUMMARY:Tonga’s LT-LEDS Window 2 Workshop on Wednesday 10th and Thursday 11th February\, 2021 from 9:00am – 4:30pm
DESCRIPTION:The Tonga’s LEDS Window 2 Workshop will focus on iterating the shared visions from the Window 1 Workshop (22nd October 2020) for a desirable low-emission future for Tonga\, and extending them by exploring pathways options to get to those future visions. Day 1 will be about mapping possible pathways towards a vision and Day 2 will be about mapping possible actions at different scales of Tongan society.
URL:https://climatechange.gov.to/?tribe_events=tongas-lt-leds-window-2-workshop-on-wednesday-10th-and-thursday-11th-february-2021-from-900am-430pm
LOCATION:Church of Jesus Christ of Latter-Day Saints Teufaiva Stake Centre at Vaha’akolo Road.\, Nuku'alofa\, Tonga
CATEGORIES:Workshop
END:VEVENT
BEGIN:VEVENT
DTSTART;TZID=UTC:20210209T100000
DTEND;TZID=UTC:20210209T160000
DTSTAMP:20210626T235133
CREATED:20210208T201945Z
LAST-MODIFIED:20210208T201945Z
UID:1987-1612864800-1612886400@climatechange.gov.to
SUMMARY:Trial Run of Tonga’s LT-LEDS Window 2 Workshop on Tuesday 9th February\, 2021 from 10:00am – 4:00pm.
DESCRIPTION:The Trial Run on the 9th is in preparation for the upcoming second workshop for Tonga’s Low Emission Development Strategy (LEDS) 2020-2050\, Window 2 Mapping Pathways Together Workshop on the 10th – 11th February 2021. The kind participation of your staff in the trial run will greatly assist the facilitators’ during the workshop and they will have gained prior knowledge of the materials and methodology that will be utilized in the workshop.
URL:https://climatechange.gov.to/?tribe_events=trial-run-of-tongas-lt-leds-window-2-workshop-on-tuesday-9th-february-2021-from-1000am-400pm
LOCATION:Church of Jesus Christ of Latter-Day Saints Teufaiva Stake Centre at Vaha’akolo Road.\, Nuku'alofa\, Tonga
CATEGORIES:Workshop
END:VEVENT
BEGIN:VEVENT
DTSTART;TZID=UTC:20201113T090000
DTEND;TZID=UTC:20201116T150000
DTSTAMP:20210626T235133
CREATED:20201103T214432Z
LAST-MODIFIED:20201103T214433Z
UID:1934-1605258000-1605538800@climatechange.gov.to
SUMMARY:ODS Project Insperction Tool Kits Equipment Awareness
DESCRIPTION:This awareness campaign will conduct to Primary and Secondary Schools in Vava’u.
URL:https://climatechange.gov.to/?tribe_events=ods-project-insperction-tool-kits-equipment-awareness
LOCATION:Vava’u
CATEGORIES:Awareness Campaign
END:VEVENT
BEGIN:VEVENT
DTSTART;TZID=UTC:20201111T080000
DTEND;TZID=UTC:20201112T170000
DTSTAMP:20210626T235133
CREATED:20201103T213929Z
LAST-MODIFIED:20201103T213930Z
UID:1931-1605081600-1605200400@climatechange.gov.to
SUMMARY:ODS Project Refresher Training Workshop
DESCRIPTION:Refresher Training workshop and training in the required use of HS codes for all RAC system\, parts and refregerants for custom officers and broker
URL:https://climatechange.gov.to/?tribe_events=ods-project-refresher-training-workshop-3
LOCATION:Fakamelino Hall\, Neiafu\, Vava'u\, Tonga
CATEGORIES:Training
END:VEVENT
BEGIN:VEVENT
DTSTART;TZID=UTC:20201109T090000
DTEND;TZID=UTC:20201110T160000
DTSTAMP:20210626T235133
CREATED:20201103T213618Z
LAST-MODIFIED:20201103T213619Z
UID:1928-1604912400-1605024000@climatechange.gov.to
SUMMARY:ODS Project Refresher Training Workshop
DESCRIPTION:For RAC Technician on Good Servicing Practices for Flammable Refrigerant in refrigeration and Air Conditioning Sector
URL:https://climatechange.gov.to/?tribe_events=ods-project-refresher-training-workshop-2
LOCATION:Fakamelino Hall\, Neiafu\, Vava'u\, Tonga
CATEGORIES:Training
END:VEVENT
BEGIN:VEVENT
DTSTART;TZID=UTC:20201103T083000
DTEND;TZID=UTC:20201105T160000
DTSTAMP:20210626T235133
CREATED:20201103T213055Z
LAST-MODIFIED:20201103T213111Z
UID:1924-1604392200-1604592000@climatechange.gov.to
SUMMARY:ODS Project- Refresher Training Workshop
DESCRIPTION:For RAC Technician on Good Servicing Practices for Flammable Refrigerant in refrigeration and Air Condition Sector
URL:https://climatechange.gov.to/?tribe_events=ods-project-refresher-training-workshop
LOCATION:Tonga Institute of Science and Technology\, Anana\, Nuku'alofa\, Tonga
CATEGORIES:Training
END:VEVENT
BEGIN:VEVENT
DTSTART;TZID=UTC:20201029T093000
DTEND;TZID=UTC:20201029T160000
DTSTAMP:20210626T235133
CREATED:20201103T210945Z
LAST-MODIFIED:20201103T211211Z
UID:1915-1603963800-1603987200@climatechange.gov.to
SUMMARY:GCF-SAPT Inception Workshop
DESCRIPTION:Formal Indtroduction of Green Climate Fund- Strengthening Adapaton Planning in Tonga to stakeholders
URL:https://climatechange.gov.to/?tribe_events=gcf-sapt-inception-workshop
LOCATION:DCC-Conference Room\, OGSanft Level 3\, Nuku'alofa\, Tongatapu\, Tonga
CATEGORIES:Awareness Campaign,Workshop
END:VEVENT
BEGIN:VEVENT
DTSTART;TZID=UTC:20201016T100000
DTEND;TZID=UTC:20201016T113000
DTSTAMP:20210626T235133
CREATED:20201103T211742Z
LAST-MODIFIED:20201103T211743Z
UID:1921-1602842400-1602847800@climatechange.gov.to
SUMMARY:ODS Project- Virutal Meeting on HFC& Trade Control under the Kigali Amendment
DESCRIPTION:
URL:https://climatechange.gov.to/?tribe_events=ods-project-virutal-meeting-on-hfc-trade-control-under-the-kigali-amendment
LOCATION:DCC-Conference Room\, OGSanft Level 3\, Nuku'alofa\, Tongatapu\, Tonga
CATEGORIES:Online
END:VEVENT
BEGIN:VEVENT
DTSTART;TZID=UTC:20201008T100000
DTEND;TZID=UTC:20201008T120000
DTSTAMP:20210626T235133
CREATED:20201103T211550Z
LAST-MODIFIED:20201103T211551Z
UID:1919-1602151200-1602158400@climatechange.gov.to
SUMMARY:ODS Project Monitoring- HPMP Implementation and Prepartation
DESCRIPTION:
URL:https://climatechange.gov.to/?tribe_events=ods-project-monitoring-hpmp-implementation-and-prepartation
LOCATION:DCC-Conference Room\, OGSanft Level 3\, Nuku'alofa\, Tongatapu\, Tonga
CATEGORIES:Online
END:VEVENT
BEGIN:VEVENT
DTSTART;TZID=UTC:20200920T080000
DTEND;TZID=UTC:20200925T170000
DTSTAMP:20210626T235133
CREATED:20200721T123522Z
LAST-MODIFIED:20200721T123522Z
UID:1200-1600588800-1601053200@climatechange.gov.to
SUMMARY:National Climate Change Awareness Week 2020
DESCRIPTION:the Department of Climate Change at MEIDECC will conduct a National Climate Change Awareness Week which has been confirmed to be convened in Tonga from 20th- 25th September\, 2020. This program intends to raise the awareness on climate change and its impacts in Tonga.
URL:https://climatechange.gov.to/?tribe_events=national-climate-change-awareness-week-2020
LOCATION:Tongatapu
END:VEVENT
END:VCALENDAR