BEGIN:VCALENDAR
VERSION:2.0
PRODID:-//Climate Change - ECPv5.6.0//NONSGML v1.0//EN
CALSCALE:GREGORIAN
METHOD:PUBLISH
X-WR-CALNAME:Climate Change
X-ORIGINAL-URL:https://climatechange.gov.to
X-WR-CALDESC:Events for Climate Change
BEGIN:VTIMEZONE
TZID:UTC
BEGIN:STANDARD
TZOFFSETFROM:+0000
TZOFFSETTO:+0000
TZNAME:UTC
DTSTART:20210101T000000
END:STANDARD
TZID:Pacific/Tongatapu
BEGIN:STANDARD
TZOFFSETFROM:+1300
TZOFFSETTO:+1300
TZNAME:+13
DTSTART:20210101T000000
END:STANDARD
END:VTIMEZONE
BEGIN:VEVENT
DTSTART;TZID=UTC:20210209T100000
DTEND;TZID=UTC:20210209T160000
DTSTAMP:20210703T090552
CREATED:20210208T201945Z
LAST-MODIFIED:20210208T201945Z
UID:1987-1612864800-1612886400@climatechange.gov.to
SUMMARY:Trial Run of Tonga’s LT-LEDS Window 2 Workshop on Tuesday 9th February\, 2021 from 10:00am – 4:00pm.
DESCRIPTION:The Trial Run on the 9th is in preparation for the upcoming second workshop for Tonga’s Low Emission Development Strategy (LEDS) 2020-2050\, Window 2 Mapping Pathways Together Workshop on the 10th – 11th February 2021. The kind participation of your staff in the trial run will greatly assist the facilitators’ during the workshop and they will have gained prior knowledge of the materials and methodology that will be utilized in the workshop.
URL:https://climatechange.gov.to/?tribe_events=trial-run-of-tongas-lt-leds-window-2-workshop-on-tuesday-9th-february-2021-from-1000am-400pm
LOCATION:Church of Jesus Christ of Latter-Day Saints Teufaiva Stake Centre at Vaha’akolo Road.\, Nuku'alofa\, Tonga
CATEGORIES:Workshop
END:VEVENT
BEGIN:VEVENT
DTSTART;TZID=UTC:20210210T083000
DTEND;TZID=UTC:20210211T163000
DTSTAMP:20210703T090552
CREATED:20210208T202152Z
LAST-MODIFIED:20210208T202212Z
UID:1990-1612945800-1613061000@climatechange.gov.to
SUMMARY:Tonga’s LT-LEDS Window 2 Workshop on Wednesday 10th and Thursday 11th February\, 2021 from 9:00am – 4:30pm
DESCRIPTION:The Tonga’s LEDS Window 2 Workshop will focus on iterating the shared visions from the Window 1 Workshop (22nd October 2020) for a desirable low-emission future for Tonga\, and extending them by exploring pathways options to get to those future visions. Day 1 will be about mapping possible pathways towards a vision and Day 2 will be about mapping possible actions at different scales of Tongan society.
URL:https://climatechange.gov.to/?tribe_events=tongas-lt-leds-window-2-workshop-on-wednesday-10th-and-thursday-11th-february-2021-from-900am-430pm
LOCATION:Church of Jesus Christ of Latter-Day Saints Teufaiva Stake Centre at Vaha’akolo Road.\, Nuku'alofa\, Tonga
CATEGORIES:Workshop
END:VEVENT
BEGIN:VEVENT
DTSTART;TZID=UTC:20210325T100000
DTEND;TZID=UTC:20210325T233000
DTSTAMP:20210703T090552
CREATED:20210323T204528Z
LAST-MODIFIED:20210323T204638Z
UID:3345-1616666400-1616715000@climatechange.gov.to
SUMMARY:Tonga Joint National Action Plan II Journalist Briefing Workshop
DESCRIPTION:This event\, co-organized by the Government of Tonga and the National Adaptation Planning Global Network\, will provide journalists with an understanding of the stresses to the country’s economy\, jobs and infrastructure; insight into how the Government of Tonga has been addressing those impacts through the Joint National Action Plan; and continues to do so through the Joint National Action Plan II.
URL:https://climatechange.gov.to/?tribe_events=tonga-joint-national-action-plan-ii-journalist-briefing-workshop
LOCATION:DCC-Conference Room\, OGSanft Level 3\, Nuku'alofa\, Tongatapu\, Tonga
CATEGORIES:Workshop
END:VEVENT
BEGIN:VEVENT
DTSTART;TZID=UTC:20210326T093000
DTEND;TZID=UTC:20210326T160000
DTSTAMP:20210703T090552
CREATED:20210323T205043Z
LAST-MODIFIED:20210323T205043Z
UID:3350-1616751000-1616774400@climatechange.gov.to
SUMMARY:Climate Change Adaptation Media Training for Government Personnel
DESCRIPTION:Following the successful submission of Tonga’s Second National Determined Contribution (NDC) as required under the Paris Agreement\, the International Institute for Sustainable Development (IISD) in contribution to the NDC Partnership have joined in partnership with MEIDECC and Tonga Broadcasting to implement a workshop to strengthen communication of the Joint National Action Plan II on Climate Change and Disaster Risk Management (JNAP II).
URL:https://climatechange.gov.to/?tribe_events=climate-change-adaptation-media-training-for-government-personnel
LOCATION:Davina House\, Vuna Road\, Ma'ufanga\, Tonga
CATEGORIES:Training
END:VEVENT
BEGIN:VEVENT
DTSTART;TZID=UTC:20210331T090000
DTEND;TZID=UTC:20210331T123000
DTSTAMP:20210703T090552
CREATED:20210330T005039Z
LAST-MODIFIED:20210330T005304Z
UID:3477-1617181200-1617193800@climatechange.gov.to
SUMMARY:Tonga Refrigeration and Engineering Association Workshop on the Requirements of Montreal Protocol and the Kigali Amendment
DESCRIPTION:This workshop will focus on the key requirements of the Montreal Protocol on substances that deplete the Ozone Layer mainly HCFC 22/R22 imported to the Kingdom
URL:https://climatechange.gov.to/?tribe_events=tonga-refrigeration-and-engineering-association-workshop-on-the-requirements-of-montreal-protocol-and-the-kigali-amendment
LOCATION:Basilica of St.Anthony of Padua\, Taufa'ahau Rd\, Nuku'alofa\, Tonga
CATEGORIES:Workshop
END:VEVENT
BEGIN:VEVENT
DTSTART;TZID=UTC:20210429T093000
DTEND;TZID=UTC:20210429T130000
DTSTAMP:20210703T090552
CREATED:20210427T030110Z
LAST-MODIFIED:20210427T032110Z
UID:3655-1619688600-1619701200@climatechange.gov.to
SUMMARY:JNAP Taskforce Training on Green Climate Fund's (GCF's) No Objection Procedure
DESCRIPTION:The JNAP Technical Working Group Training will focus on the purpose of the Tonga NDA’s No Objection Procedure\, a Government process for ensuring all project idea(s) and concepts seeking GCF funding comply with the country’s strategic development plans and policies. The JNAP Task Force\, which consolidates technical experts across the sectors\, is tasked by the NDA to screen and recommend project idea(s) or concepts for further development with accredited entities and submission to the Green Climate Fund. Ensuring this national mechanism is in place and effective will limit the duplication of project concept submissions to the Fund and the amount of feedback that usually occurs between the country and the GCF’s Secretariat. The training will also include an exercise of conducting the NObP screening of a project idea recently submitted to the JNAP Secretariat\, to better understand the procedure.
URL:https://climatechange.gov.to/?tribe_events=jnap-taskforce-training-on-green-climate-funds-gcfs-no-objection-procedure
LOCATION:Church of Jesus Christ of Latter-Day Saints Teufaiva Stake Centre at Vaha’akolo Road.\, Nuku'alofa\, Tonga
CATEGORIES:Training
END:VEVENT
BEGIN:VEVENT
DTSTART;TZID=UTC:20210430T093000
DTEND;TZID=UTC:20210430T130000
DTSTAMP:20210703T090552
CREATED:20210427T031941Z
LAST-MODIFIED:20210427T031941Z
UID:3673-1619775000-1619787600@climatechange.gov.to
SUMMARY:First National Stakeholder Consultation Workshop on Reviewing the Tonga Climate Change Policy 2016
DESCRIPTION:The First National Stakeholder Consultation Workshop on Reviewing the Tonga Climate Change Policy 2016 will focus on providing recommendations and feedback from the sectors. The policy was established as a framework for all climate action in Tonga to achieve the vision of a resilient Tonga by 2035. The policy is subject to a 5-year review and with the support of IISD/NAP-GN (International Institute of Sustainable Development/ National Adaptation Planning – Global Network\, the first desk review for Tonga Climate Change Policy 2016 has been developed.  This workshop will present the outcome of the Desk Review for the JNAP Taskforce members and stakeholders to provide their feedback and recommendations.  It will be the first workshop of a series of meetings and consultations to be held with stakeholders. This work is envisaged to be completed in May and the revised policy will be launched in June 2021
URL:https://climatechange.gov.to/?tribe_events=first-national-stakeholder-consultation-workshop-on-reviewing-the-tonga-climate-change-policy-2016
LOCATION:Church of Jesus Christ of Latter-Day Saints Teufaiva Stake Centre at Vaha’akolo Road.\, Nuku'alofa\, Tonga
CATEGORIES:Workshop
END:VEVENT
BEGIN:VEVENT
DTSTART;TZID=UTC:20210518T090000
DTEND;TZID=UTC:20210518T133000
DTSTAMP:20210703T090552
CREATED:20210518T223637Z
LAST-MODIFIED:20210518T223637Z
UID:4006-1621328400-1621344600@climatechange.gov.to
SUMMARY:Hydro fluorocarbon (HFC) Licensing System- A Partnership Workshop with His Majesty's Customs and Importers
DESCRIPTION:
URL:https://climatechange.gov.to/?tribe_events=hydro-fluorocarbon-hfc-licensing-system-a-partnership-workshop-with-his-majestys-customs-and-importers
LOCATION:Fe’ao mo e Ngalu Conference Room\, Ministry of Revenue and Custom\, Ma'ufanga\, Tonga
CATEGORIES:Workshop
END:VEVENT
BEGIN:VEVENT
DTSTART;TZID=UTC:20210520T093000
DTEND;TZID=UTC:20210520T160000
DTSTAMP:20210703T090552
CREATED:20210519T020930Z
LAST-MODIFIED:20210519T020930Z
UID:4010-1621503000-1621526400@climatechange.gov.to
SUMMARY:Tonga JNAP 2 Monitoring and Evaluation Training
DESCRIPTION:The objective of this workshop will focus on providing instructions for ministry planners and the JNAP 2 M&E working group on effectively completing the monitoring questionnaire as part of the process requirements for the JNAP 2 M&E System.
URL:https://climatechange.gov.to/?tribe_events=tonga-jnap-2-monitoring-and-evaluation-training
LOCATION:DCC-Conference Room\, OGSanft Level 3\, Nuku'alofa\, Tongatapu\, Tonga
CATEGORIES:Training
END:VEVENT
BEGIN:VEVENT
DTSTART;TZID=UTC:20210602T090000
DTEND;TZID=UTC:20210609T160000
DTSTAMP:20210703T090552
CREATED:20210531T041138Z
LAST-MODIFIED:20210531T041138Z
UID:4119-1622624400-1623254400@climatechange.gov.to
SUMMARY:Youth Training on Mangrove
DESCRIPTION:5 Day Youth Training on Mangrove Restoration for youths from the coastal communities in North-Western Tongatapu (Sopu-Ha’atafu)
URL:https://climatechange.gov.to/?tribe_events=youth-training-on-mangrove
LOCATION:DCC-Conference Room\, OGSanft Level 3\, Nuku'alofa\, Tongatapu\, Tonga
END:VEVENT
BEGIN:VEVENT
DTSTART;VALUE=DATE:20210623
DTEND;VALUE=DATE:20210729
DTSTAMP:20210703T090552
CREATED:20210628T225642Z
LAST-MODIFIED:20210628T230457Z
UID:4422-1624406400-1627516799@climatechange.gov.to
SUMMARY:Virtual training “Ecosystem-based Adaptation and Mitigation”
DESCRIPTION:This training program is expected to contribute to successful implementation and scaling-up of ecosystem-based adaptation and mitigation action in PICTs. This training program provides opportunities to review the options of ecosystem-based approaches of terrestrial\, freshwater\, coastal\, marine ecosystems as well as cross-cutting options\, and particularly to discuss and consider important themes: co-benefits of options and how they are analyzed; outcome indicators and means of verification which are feasible for communities and local economic actors; and major barriers to and enablers of scaling-up of ecosystem-based approaches.
URL:https://climatechange.gov.to/?tribe_events=virtual-training-ecosystem-based-adaptation-and-mitigation
LOCATION:DCC-Conference Room\, OGSanft Level 3\, Nuku'alofa\, Tongatapu\, Tonga
CATEGORIES:Training
ORGANIZER;CN="Akesiu%20Leua":MAILTO:akesiuleua@gmail.com
END:VEVENT
BEGIN:VEVENT
DTSTART;VALUE=DATE:20210630
DTEND;VALUE=DATE:20210703
DTSTAMP:20210703T090552
CREATED:20210628T224221Z
LAST-MODIFIED:20210628T224944Z
UID:4415-1625011200-1625270399@climatechange.gov.to
SUMMARY:Regional virtual training workshop on institutional arrangements for the existing MRV arrangements and the ETF\, including data management for national GHG inventories
DESCRIPTION:The main objective of the regional virtual training workshop is\, inter alia\, to enhance the technical capacity of experts from developing country Parties (see target audience below) in establishing or building upon and strengthening their institutional arrangements to facilitate the implementation of existing measurement\, reporting and verification (MRV) arrangements under the Convention and prepare for the implementation of the enhanced transparency framework (ETF)\, including data management for national greenhouse gas (GHG) inventories.
URL:https://climatechange.gov.to/?tribe_events=regional-virtual-training-workshop-on-institutional-arrangements-for-the-existing-mrv-arrangements-and-the-etf-including-data-management-for-national-ghg-inventories
LOCATION:DCC-Conference Room\, OGSanft Level 3\, Nuku'alofa\, Tongatapu\, Tonga
CATEGORIES:Training
ORGANIZER;CN="Lilu%20Moala":MAILTO:lilumoala@gmail.com
END:VEVENT
BEGIN:VEVENT
DTSTART;TZID=Pacific/Tongatapu:20210919T100000
DTEND;TZID=Pacific/Tongatapu:20210919T123000
DTSTAMP:20210703T090552
CREATED:20210628T231846Z
LAST-MODIFIED:20210628T231846Z
UID:4425-1632045600-1632054600@climatechange.gov.to
SUMMARY:Prayer Ceremony
DESCRIPTION:
URL:https://climatechange.gov.to/?tribe_events=prayer-ceremony
LOCATION:The Church of Jesus Christ of Latter Day Saints\, Tonga
CATEGORIES:Awareness Campaign
END:VEVENT
BEGIN:VEVENT
DTSTART;TZID=Pacific/Tongatapu:20210919T130000
DTEND;TZID=Pacific/Tongatapu:20210919T140000
DTSTAMP:20210703T090552
CREATED:20210628T232154Z
LAST-MODIFIED:20210628T232154Z
UID:4430-1632056400-1632060000@climatechange.gov.to
SUMMARY:Luncheon
DESCRIPTION:
URL:https://climatechange.gov.to/?tribe_events=luncheon
LOCATION:Liahona High School’s Gym\, Tonga
CATEGORIES:Awareness Campaign
END:VEVENT
BEGIN:VEVENT
DTSTART;TZID=Pacific/Tongatapu:20210920T100000
DTEND;TZID=Pacific/Tongatapu:20210920T223000
DTSTAMP:20210703T090552
CREATED:20210628T232630Z
LAST-MODIFIED:20210628T232630Z
UID:4433-1632132000-1632177000@climatechange.gov.to
SUMMARY:Commemoration of the International Ozone Day
DESCRIPTION:
URL:https://climatechange.gov.to/?tribe_events=commemoration-of-the-international-ozone-day
LOCATION:Queen Salote College Hall\, Tonga
CATEGORIES:Awareness Campaign
END:VEVENT
BEGIN:VEVENT
DTSTART;TZID=Pacific/Tongatapu:20210920T120000
DTEND;TZID=Pacific/Tongatapu:20210920T160000
DTSTAMP:20210703T090552
CREATED:20210629T055049Z
LAST-MODIFIED:20210629T055049Z
UID:4437-1632139200-1632153600@climatechange.gov.to
SUMMARY:Talanoa sessions on the Ozone Layer
DESCRIPTION:
URL:https://climatechange.gov.to/?tribe_events=talanoa-sessions-on-the-ozone-layer
LOCATION:Basilica of St.Anthony of Padua\, Taufa'ahau Rd\, Nuku'alofa\, Tonga
CATEGORIES:Awareness Campaign
END:VEVENT
BEGIN:VEVENT
DTSTART;TZID=Pacific/Tongatapu:20210920T193000
DTEND;TZID=Pacific/Tongatapu:20210920T200000
DTSTAMP:20210703T090552
CREATED:20210629T193342Z
LAST-MODIFIED:20210629T193342Z
UID:4525-1632166200-1632168000@climatechange.gov.to
SUMMARY:TV and Radio Programs
DESCRIPTION:
URL:https://climatechange.gov.to/?tribe_events=tv-and-radio-programs
CATEGORIES:Awareness Campaign
END:VEVENT
BEGIN:VEVENT
DTSTART;TZID=Pacific/Tongatapu:20210921T100000
DTEND;TZID=Pacific/Tongatapu:20210921T113000
DTSTAMP:20210703T090552
CREATED:20210629T193747Z
LAST-MODIFIED:20210629T193747Z
UID:4527-1632218400-1632223800@climatechange.gov.to
SUMMARY:Youth Climate Change Talanoa
DESCRIPTION:
URL:https://climatechange.gov.to/?tribe_events=youth-climate-change-talanoa
CATEGORIES:Awareness Campaign
END:VEVENT
BEGIN:VEVENT
DTSTART;TZID=Pacific/Tongatapu:20210921T193000
DTEND;TZID=Pacific/Tongatapu:20210921T200000
DTSTAMP:20210703T090552
CREATED:20210629T193907Z
LAST-MODIFIED:20210629T193907Z
UID:4530-1632252600-1632254400@climatechange.gov.to
SUMMARY:TV and Radio Programs
DESCRIPTION:
URL:https://climatechange.gov.to/?tribe_events=tv-and-radio-programs-2
CATEGORIES:Awareness Campaign
END:VEVENT
BEGIN:VEVENT
DTSTART;TZID=Pacific/Tongatapu:20210922T070000
DTEND;TZID=Pacific/Tongatapu:20210922T090000
DTSTAMP:20210703T090552
CREATED:20210629T194527Z
LAST-MODIFIED:20210629T194527Z
UID:4532-1632294000-1632301200@climatechange.gov.to
SUMMARY:Community Coastal Cleanup Day
DESCRIPTION:
URL:https://climatechange.gov.to/?tribe_events=community-coastal-cleanup-day
CATEGORIES:Awareness Campaign
END:VEVENT
BEGIN:VEVENT
DTSTART;TZID=Pacific/Tongatapu:20210922T083000
DTEND;TZID=Pacific/Tongatapu:20210922T163000
DTSTAMP:20210703T090552
CREATED:20210629T200126Z
LAST-MODIFIED:20210629T200126Z
UID:4545-1632299400-1632328200@climatechange.gov.to
SUMMARY:Mufti Day
DESCRIPTION:
URL:https://climatechange.gov.to/?tribe_events=mufti-day
CATEGORIES:Awareness Campaign
END:VEVENT
BEGIN:VEVENT
DTSTART;TZID=Pacific/Tongatapu:20210922T140000
DTEND;TZID=Pacific/Tongatapu:20210922T160000
DTSTAMP:20210703T090552
CREATED:20210629T195754Z
LAST-MODIFIED:20210629T195754Z
UID:4539-1632319200-1632326400@climatechange.gov.to
SUMMARY:Tree Planting (Coastal & Terrestrial Plants)
DESCRIPTION:
URL:https://climatechange.gov.to/?tribe_events=tree-planting-coastal-terrestrial-plants
CATEGORIES:Awareness Campaign
END:VEVENT
BEGIN:VEVENT
DTSTART;TZID=Pacific/Tongatapu:20210922T163000
DTEND;TZID=Pacific/Tongatapu:20210922T163000
DTSTAMP:20210703T090552
CREATED:20210629T195141Z
LAST-MODIFIED:20210629T195141Z
UID:4535-1632328200-1632328200@climatechange.gov.to
SUMMARY:Short Video Clip Competition
DESCRIPTION:
URL:https://climatechange.gov.to/?tribe_events=short-video-clip-competition
CATEGORIES:Awareness Campaign
END:VEVENT
BEGIN:VEVENT
DTSTART;TZID=Pacific/Tongatapu:20210922T163000
DTEND;TZID=Pacific/Tongatapu:20210922T163000
DTSTAMP:20210703T090552
CREATED:20210629T195316Z
LAST-MODIFIED:20210629T195316Z
UID:4537-1632328200-1632328200@climatechange.gov.to
SUMMARY:Written Speech Competition
DESCRIPTION:
URL:https://climatechange.gov.to/?tribe_events=written-speech-competition
CATEGORIES:Awareness Campaign
END:VEVENT
BEGIN:VEVENT
DTSTART;TZID=Pacific/Tongatapu:20210922T193000
DTEND;TZID=Pacific/Tongatapu:20210922T200000
DTSTAMP:20210703T090552
CREATED:20210629T200237Z
LAST-MODIFIED:20210629T200237Z
UID:4548-1632339000-1632340800@climatechange.gov.to
SUMMARY:TV and Radio Programs
DESCRIPTION:
URL:https://climatechange.gov.to/?tribe_events=tv-and-radio-programs-3
CATEGORIES:Awareness Campaign
END:VEVENT
BEGIN:VEVENT
DTSTART;TZID=Pacific/Tongatapu:20210923T150000
DTEND;TZID=Pacific/Tongatapu:20210923T180000
DTSTAMP:20210703T090552
CREATED:20210629T200625Z
LAST-MODIFIED:20210629T201645Z
UID:4550-1632409200-1632420000@climatechange.gov.to
SUMMARY:Singing Competition
DESCRIPTION:
URL:https://climatechange.gov.to/?tribe_events=singing-competition
LOCATION:Digicel Square\, Tonga
CATEGORIES:Awareness Campaign
END:VEVENT
BEGIN:VEVENT
DTSTART;TZID=Pacific/Tongatapu:20210923T193000
DTEND;TZID=Pacific/Tongatapu:20210923T200000
DTSTAMP:20210703T090552
CREATED:20210629T200912Z
LAST-MODIFIED:20210629T200912Z
UID:4553-1632425400-1632427200@climatechange.gov.to
SUMMARY:TV and Radio Programs
DESCRIPTION:
URL:https://climatechange.gov.to/?tribe_events=tv-and-radio-programs-4
CATEGORIES:Awareness Campaign
END:VEVENT
BEGIN:VEVENT
DTSTART;TZID=Pacific/Tongatapu:20210924T100000
DTEND;TZID=Pacific/Tongatapu:20210924T140000
DTSTAMP:20210703T090552
CREATED:20210629T201222Z
LAST-MODIFIED:20210629T201222Z
UID:4555-1632477600-1632492000@climatechange.gov.to
SUMMARY:Exhibition Day
DESCRIPTION:
URL:https://climatechange.gov.to/?tribe_events=exhibition-day
LOCATION:Queen Salote College Hall\, Tonga
CATEGORIES:Awareness Campaign
END:VEVENT
BEGIN:VEVENT
DTSTART;TZID=Pacific/Tongatapu:20210924T193000
DTEND;TZID=Pacific/Tongatapu:20210924T200000
DTSTAMP:20210703T090552
CREATED:20210629T201512Z
LAST-MODIFIED:20210629T201512Z
UID:4558-1632511800-1632513600@climatechange.gov.to
SUMMARY:TV and Radio Programs
DESCRIPTION:
URL:https://climatechange.gov.to/?tribe_events=tv-and-radio-programs-5
CATEGORIES:Awareness Campaign
END:VEVENT
END:VCALENDAR